BEGIN:VCALENDAR
VERSION:2.0
PRODID:-//Salem Sound Coastwatch - ECPv6.15.20//NONSGML v1.0//EN
CALSCALE:GREGORIAN
METHOD:PUBLISH
X-WR-CALNAME:Salem Sound Coastwatch
X-ORIGINAL-URL:https://salemsound.org
X-WR-CALDESC:Events for Salem Sound Coastwatch
REFRESH-INTERVAL;VALUE=DURATION:PT1H
X-Robots-Tag:noindex
X-PUBLISHED-TTL:PT1H
BEGIN:VTIMEZONE
TZID:America/New_York
BEGIN:DAYLIGHT
TZOFFSETFROM:-0500
TZOFFSETTO:-0400
TZNAME:EDT
DTSTART:20250309T070000
END:DAYLIGHT
BEGIN:STANDARD
TZOFFSETFROM:-0400
TZOFFSETTO:-0500
TZNAME:EST
DTSTART:20251102T060000
END:STANDARD
BEGIN:DAYLIGHT
TZOFFSETFROM:-0500
TZOFFSETTO:-0400
TZNAME:EDT
DTSTART:20260308T070000
END:DAYLIGHT
BEGIN:STANDARD
TZOFFSETFROM:-0400
TZOFFSETTO:-0500
TZNAME:EST
DTSTART:20261101T060000
END:STANDARD
BEGIN:DAYLIGHT
TZOFFSETFROM:-0500
TZOFFSETTO:-0400
TZNAME:EDT
DTSTART:20270314T070000
END:DAYLIGHT
BEGIN:STANDARD
TZOFFSETFROM:-0400
TZOFFSETTO:-0500
TZNAME:EST
DTSTART:20271107T060000
END:STANDARD
END:VTIMEZONE
BEGIN:VEVENT
DTSTART;TZID=America/New_York:20260422T100000
DTEND;TZID=America/New_York:20260422T120000
DTSTAMP:20260423T152723
CREATED:20260329T220637Z
LAST-MODIFIED:20260329T221006Z
UID:10000257-1776852000-1776859200@salemsound.org
SUMMARY:Earth Day Clean Up: Mary Jane Lee Park
DESCRIPTION:Celebrate Earth Day with us this year and participate in a public clean up at Mary Jane Lee Park! We will start off at the park and move throughout the Point Neighborhood.  All supplies\, including trash bags\, pickers\, and gloves will be provided. Please dress appropriately for outdoor activities and the weather. \n\n\n\nRegistration is required. To sign up\, please email Susan Marsh at susan.marsh@salemsound.org
URL:https://salemsound.org/events/earth-day-clean-up-mary-jane-lee-park/
LOCATION:Mary Jane Lee Park\, 41 Palmer Street\, Salem\, Massachusetts\, 01970\, United States
ATTACH;FMTTYPE=image/png:https://salemsound.org/wp-content/uploads/2026/03/Earth-Day-.png
END:VEVENT
END:VCALENDAR